BEGIN:VCALENDAR
VERSION:2.0
PRODID:-//Refuge de Solacyre Leysin - ECPv6.0.9//NONSGML v1.0//EN
CALSCALE:GREGORIAN
METHOD:PUBLISH
X-ORIGINAL-URL:https://solacyre.ch
X-WR-CALDESC:évènements pour Refuge de Solacyre Leysin
REFRESH-INTERVAL;VALUE=DURATION:PT1H
X-Robots-Tag:noindex
X-PUBLISHED-TTL:PT1H
BEGIN:VTIMEZONE
TZID:Europe/Zurich
BEGIN:DAYLIGHT
TZOFFSETFROM:+0100
TZOFFSETTO:+0200
TZNAME:CEST
DTSTART:20210328T010000
END:DAYLIGHT
BEGIN:STANDARD
TZOFFSETFROM:+0200
TZOFFSETTO:+0100
TZNAME:CET
DTSTART:20211031T010000
END:STANDARD
END:VTIMEZONE
BEGIN:VEVENT
DTSTART;VALUE=DATE:20210703
DTEND;VALUE=DATE:20210704
DTSTAMP:20260425T201124
CREATED:20210612T164851Z
LAST-MODIFIED:20210612T165626Z
UID:3373-1625270400-1625356799@solacyre.ch
SUMMARY:Ouverture du refuge pour la saison d'été 2021
DESCRIPTION:Venez découvrir la nouvelle cuisine de Solacyre dès le 3 juillet. Ouvert tous les jours du 3 juillet au 20 septembre\, de 10h30 à 18h et tous les jours également du 16 au 31 octobre\, de 10h30 à 17h. Du 20 septembre au 16 octobre ouvert les samedis et dimanches uniquement.
URL:https://solacyre.ch/event/ouvertuzre-du-refuge-pour-la-saison-dt-2021/
LOCATION:Refuge de\, Solacyre\, Leysin\, VD\, 1854\, Suisse
END:VEVENT
BEGIN:VEVENT
DTSTART;VALUE=DATE:20210703
DTEND;VALUE=DATE:20210707
DTSTAMP:20260425T201124
CREATED:20210612T170304Z
LAST-MODIFIED:20210612T170304Z
UID:3378-1625270400-1625615999@solacyre.ch
SUMMARY:Ouverture du Refuge
DESCRIPTION:Gardiens : Cathy Arsich et Luc de la Grandville. Ouvert de 10h30 à 18h. Sur demande préalable et après accord avec nos gardiens bénévoles (info@solacyre.ch ou 079 334 34 07 lorsque le refuge est ouvert)\, il peut être possible d’ouvrir en soirée pour des groupes.
URL:https://solacyre.ch/event/ouverture-du-refuge-2/
LOCATION:Refuge de\, Solacyre\, Leysin\, VD\, 1854\, Suisse
END:VEVENT
BEGIN:VEVENT
DTSTART;VALUE=DATE:20210707
DTEND;VALUE=DATE:20210710
DTSTAMP:20260425T201124
CREATED:20210612T170509Z
LAST-MODIFIED:20210612T170509Z
UID:3380-1625616000-1625875199@solacyre.ch
SUMMARY:1ère semaine été 2021
DESCRIPTION:Gardiens : Roland Gamper\, Bibiane Gamper\, Nayara Mercader. Ouvert de 10h30 à 18h. Sur demande préalable et après accord avec nos gardiens bénévoles (info@solacyre.ch ou 079 334 34 07 lorsque le refuge est ouvert)\, il peut être possible d’ouvrir en soirée pour des groupes.
URL:https://solacyre.ch/event/1re-semaine-t-2021/
LOCATION:Refuge de\, Solacyre\, Leysin\, VD\, 1854\, Suisse
END:VEVENT
BEGIN:VEVENT
DTSTART;VALUE=DATE:20210710
DTEND;VALUE=DATE:20210717
DTSTAMP:20260425T201124
CREATED:20210612T170619Z
LAST-MODIFIED:20210612T170747Z
UID:3382-1625875200-1626479999@solacyre.ch
SUMMARY:2ème semaine été 2021
DESCRIPTION:Gardiens : Chris et Paul Magnuson. Ouvert de 10h30 à 18h. Sur demande préalable et après accord avec nos gardiens bénévoles (info@solacyre.ch ou 079 334 34 07 lorsque le refuge est ouvert)\, il peut être possible d’ouvrir en soirée pour des groupes.
URL:https://solacyre.ch/event/2me-semaine-t-2021/
LOCATION:Refuge de\, Solacyre\, Leysin\, VD\, 1854\, Suisse
END:VEVENT
BEGIN:VEVENT
DTSTART;VALUE=DATE:20210717
DTEND;VALUE=DATE:20210725
DTSTAMP:20260425T201124
CREATED:20210612T170909Z
LAST-MODIFIED:20210612T170909Z
UID:3385-1626480000-1627171199@solacyre.ch
SUMMARY:3ème semaine été 2021
DESCRIPTION:Gardiens : Séverine Gamper et Juliette Blanc. Ouvert de 10h30 à 18h. Sur demande préalable et après accord avec nos gardiens bénévoles (info@solacyre.ch ou 079 334 34 07 lorsque le refuge est ouvert)\, il peut être possible d’ouvrir en soirée pour des groupes.
URL:https://solacyre.ch/event/3me-semaine-t-2021/
LOCATION:Refuge de\, Solacyre\, Leysin\, VD\, 1854\, Suisse
END:VEVENT
BEGIN:VEVENT
DTSTART;TZID=Europe/Zurich:20210724T080000
DTEND;TZID=Europe/Zurich:20210731T170000
DTSTAMP:20260425T201124
CREATED:20210629T165721Z
LAST-MODIFIED:20210629T165721Z
UID:3422-1627113600-1627750800@solacyre.ch
SUMMARY:4ème semaine été 2021
DESCRIPTION:Gardiens : Amandine Prime et Stephen Reynard. Ouvert de 10h30 à 18h. Sur demande préalable et après accord avec nos gardiens bénévoles (info@solacyre.ch ou 079 334 34 07 lorsque le refuge est ouvert)\, il peut être possible d’ouvrir en soirée pour des groupes.
URL:https://solacyre.ch/event/4me-semaine-t-2021/
END:VEVENT
BEGIN:VEVENT
DTSTART;VALUE=DATE:20210731
DTEND;VALUE=DATE:20210808
DTSTAMP:20260425T201124
CREATED:20210612T171135Z
LAST-MODIFIED:20210612T171135Z
UID:3388-1627689600-1628380799@solacyre.ch
SUMMARY:5ème semaine été 2021
DESCRIPTION:Gardiens : Brigitte Huber\, Chantal Völlmi et Urs Brauchli. Ouvert de 10h30 à 18h. Sur demande préalable et après accord avec nos gardiens bénévoles (info@solacyre.ch ou 079 334 34 07 lorsque le refuge est ouvert)\, il peut être possible d’ouvrir en soirée pour des groupes.
URL:https://solacyre.ch/event/5me-semaine-t-2021/
LOCATION:Refuge de\, Solacyre\, Leysin\, VD\, 1854\, Suisse
END:VEVENT
END:VCALENDAR