BEGIN:VCALENDAR
VERSION:2.0
PRODID:-//Refuge de Solacyre Leysin - ECPv6.0.9//NONSGML v1.0//EN
CALSCALE:GREGORIAN
METHOD:PUBLISH
X-ORIGINAL-URL:https://solacyre.ch
X-WR-CALDESC:évènements pour Refuge de Solacyre Leysin
REFRESH-INTERVAL;VALUE=DURATION:PT1H
X-Robots-Tag:noindex
X-PUBLISHED-TTL:PT1H
BEGIN:VTIMEZONE
TZID:Europe/Zurich
BEGIN:DAYLIGHT
TZOFFSETFROM:+0100
TZOFFSETTO:+0200
TZNAME:CEST
DTSTART:20210328T010000
END:DAYLIGHT
BEGIN:STANDARD
TZOFFSETFROM:+0200
TZOFFSETTO:+0100
TZNAME:CET
DTSTART:20211031T010000
END:STANDARD
END:VTIMEZONE
BEGIN:VEVENT
DTSTART;VALUE=DATE:20210206
DTEND;VALUE=DATE:20210208
DTSTAMP:20260426T024414
CREATED:20201207T150507Z
LAST-MODIFIED:20201207T150713Z
UID:2806-1612569600-1612742399@solacyre.ch
SUMMARY:5ème week-end saison hiver
DESCRIPTION:Le refuge est ouvert samedi et dimanche de 10h30 à 16h30. Gardiens : Roland et Bibiane Gamper. Ouverture possible en soirée sur accord préalable et dès 10 personnes. Contact : info@solacyre.ch ou 079 334 34 07\, mais attention ce téléphone n’est en service que lorsque le refuge est ouvert.
URL:https://solacyre.ch/event/5eme-week-end-saison-hiver/
LOCATION:Refuge de\, Solacyre\, Leysin\, VD\, 1854\, Suisse
END:VEVENT
BEGIN:VEVENT
DTSTART;VALUE=DATE:20210213
DTEND;VALUE=DATE:20210215
DTSTAMP:20260426T024414
CREATED:20201207T150937Z
LAST-MODIFIED:20201207T150937Z
UID:2809-1613174400-1613347199@solacyre.ch
SUMMARY:6ème week-end saison d'hiver
DESCRIPTION:Le refuge est ouvert samedi et dimanche de 10h30 à 16h30. Gardiens : Luc Delbrouck et Isabelle Clément. Ouverture possible en soirée sur accord préalable et dès 10 personnes. Contact : info@solacyre.ch ou 079 334 34 07\, mais attention ce téléphone n’est en service que lorsque le refuge est ouvert.
URL:https://solacyre.ch/event/6eme-week-end-saison-dhiver/
LOCATION:Refuge de\, Solacyre\, Leysin\, VD\, 1854\, Suisse
END:VEVENT
BEGIN:VEVENT
DTSTART;VALUE=DATE:20210215
DTEND;VALUE=DATE:20210220
DTSTAMP:20260426T024414
CREATED:20201207T151125Z
LAST-MODIFIED:20201207T151125Z
UID:2811-1613347200-1613779199@solacyre.ch
SUMMARY:3ème semaine hiver (Relâches)
DESCRIPTION:Le refuge est ouvert tous les jours de 10h30 à 16h30. Gardiens : Séverinne Gamper et Juliette Blanc. Ouverture possible en soirée sur accord préalable et dès 10 personnes. Contact : info@solacyre.ch ou 079 334 34 07\, mais attention ce téléphone n’est en service que lorsque le refuge est ouvert.
URL:https://solacyre.ch/event/3eme-semaine-hiver-relaches/
LOCATION:Refuge de\, Solacyre\, Leysin\, VD\, 1854\, Suisse
END:VEVENT
BEGIN:VEVENT
DTSTART;VALUE=DATE:20210220
DTEND;VALUE=DATE:20210222
DTSTAMP:20260426T024414
CREATED:20201207T151305Z
LAST-MODIFIED:20201207T151305Z
UID:2813-1613779200-1613951999@solacyre.ch
SUMMARY:7ème week-end hiver
DESCRIPTION:Le refuge est ouvert samedi et dimanche de 10h30 à 16h30. Gardiens : Clémence Gavillet et Camille-Charlotte Scory. Ouverture possible en soirée sur accord préalable et dès 10 personnes. Contact : info@solacyre.ch ou 079 334 34 07\, mais attention ce téléphone n’est en service que lorsque le refuge est ouvert.
URL:https://solacyre.ch/event/7eme-week-end-hiver/
LOCATION:Refuge de\, Solacyre\, Leysin\, VD\, 1854\, Suisse
END:VEVENT
BEGIN:VEVENT
DTSTART;VALUE=DATE:20210222
DTEND;VALUE=DATE:20210301
DTSTAMP:20260426T024414
CREATED:20201207T151435Z
LAST-MODIFIED:20201207T151503Z
UID:2815-1613952000-1614556799@solacyre.ch
SUMMARY:4ème semaine hiver
DESCRIPTION:Le refuge est ouvert tous les jours de 10h30 à 16h30. Gardiens : Danielle Chablaix et René Vaudroz. Ouverture possible en soirée sur accord préalable et dès 10 personnes. Contact : info@solacyre.ch ou 079 334 34 07\, mais attention ce téléphone n’est en service que lorsque le refuge est ouvert.
URL:https://solacyre.ch/event/4eme-semaine-hiver/
LOCATION:Refuge de\, Solacyre\, Leysin\, VD\, 1854\, Suisse
END:VEVENT
END:VCALENDAR