BEGIN:VCALENDAR
VERSION:2.0
PRODID:-//Refuge de Solacyre Leysin - ECPv6.0.9//NONSGML v1.0//EN
CALSCALE:GREGORIAN
METHOD:PUBLISH
X-ORIGINAL-URL:https://solacyre.ch
X-WR-CALDESC:évènements pour Refuge de Solacyre Leysin
REFRESH-INTERVAL;VALUE=DURATION:PT1H
X-Robots-Tag:noindex
X-PUBLISHED-TTL:PT1H
BEGIN:VTIMEZONE
TZID:Europe/Zurich
BEGIN:DAYLIGHT
TZOFFSETFROM:+0100
TZOFFSETTO:+0200
TZNAME:CEST
DTSTART:20200329T010000
END:DAYLIGHT
BEGIN:STANDARD
TZOFFSETFROM:+0200
TZOFFSETTO:+0100
TZNAME:CET
DTSTART:20201025T010000
END:STANDARD
BEGIN:DAYLIGHT
TZOFFSETFROM:+0100
TZOFFSETTO:+0200
TZNAME:CEST
DTSTART:20210328T010000
END:DAYLIGHT
BEGIN:STANDARD
TZOFFSETFROM:+0200
TZOFFSETTO:+0100
TZNAME:CET
DTSTART:20211031T010000
END:STANDARD
END:VTIMEZONE
BEGIN:VEVENT
DTSTART;VALUE=DATE:20201025
DTEND;VALUE=DATE:20201221
DTSTAMP:20260426T061425
CREATED:20200505T171209Z
LAST-MODIFIED:20200505T171209Z
UID:2604-1603584000-1608508799@solacyre.ch
SUMMARY:Fermeture du refuge jusqu'à Noël
DESCRIPTION:LE refuge sera fermé jusqu’aux Fêtes de fin d’année. A bientôt.
URL:https://solacyre.ch/event/fermeture-du-refuge-jusqua-noel/
END:VEVENT
BEGIN:VEVENT
DTSTART;VALUE=DATE:20201224
DTEND;VALUE=DATE:20201225
DTSTAMP:20260426T061425
CREATED:20201207T145242Z
LAST-MODIFIED:20201216T175601Z
UID:2790-1608768000-1608854399@solacyre.ch
SUMMARY:Ouverture de la saison d'hiver
DESCRIPTION:Attention nous sommes contraint de reporter de quelques jours l’ouverture du refuge qui n’aura pas lieu les 19 décembre comme prévu\, mais au mieux le jeudi 24 décembre.
URL:https://solacyre.ch/event/ouverture-de-la-saison-dhiver/
LOCATION:Refuge de\, Solacyre\, Leysin\, VD\, 1854\, Suisse
END:VEVENT
BEGIN:VEVENT
DTSTART;VALUE=DATE:20201224
DTEND;VALUE=DATE:20201228
DTSTAMP:20260426T061425
CREATED:20201207T145615Z
LAST-MODIFIED:20201216T175905Z
UID:2792-1608768000-1609113599@solacyre.ch
SUMMARY:Première semaine de la saison d'hiver
DESCRIPTION:Attention\, le refuge n’ouvrira pas le samedi 19 décembre comme prévu\, mais au mieux le jeudi 24 décembre. Le refuge est ouvert tous les jours de 10h30 à 16h30. Gardiens : pas encore connus . Contact : info@solacyre.ch ou 079 334 34 07\, mais attention ce téléphone n’est en service que lorsque le refuge est ouvert.
URL:https://solacyre.ch/event/premiere-semaine-de-la-saison-dhiver/
LOCATION:Refuge de\, Solacyre\, Leysin\, VD\, 1854\, Suisse
END:VEVENT
BEGIN:VEVENT
DTSTART;VALUE=DATE:20201228
DTEND;VALUE=DATE:20210104
DTSTAMP:20260426T061425
CREATED:20201207T145741Z
LAST-MODIFIED:20201207T150013Z
UID:2794-1609113600-1609718399@solacyre.ch
SUMMARY:2ème semaine saison d'hiver
DESCRIPTION:Le refuge est ouvert tous les jours de 10h30 à 16h30. Gardiens : Thomas et Véronique Maindiaux. Ouverture possible en soirée sur accord préalable et dès 10 personnes. Contact : info@solacyre.ch ou 079 334 34 07\, mais attention ce téléphone n’est en service que lorsque le refuge est ouvert.
URL:https://solacyre.ch/event/2eme-semaine-saison-dhiver/
LOCATION:Refuge de\, Solacyre\, Leysin\, VD\, 1854\, Suisse
END:VEVENT
END:VCALENDAR