BEGIN:VCALENDAR
VERSION:2.0
PRODID:-//Refuge de Solacyre Leysin - ECPv6.0.9//NONSGML v1.0//EN
CALSCALE:GREGORIAN
METHOD:PUBLISH
X-WR-CALNAME:Refuge de Solacyre Leysin
X-ORIGINAL-URL:https://solacyre.ch
X-WR-CALDESC:évènements pour Refuge de Solacyre Leysin
REFRESH-INTERVAL;VALUE=DURATION:PT1H
X-Robots-Tag:noindex
X-PUBLISHED-TTL:PT1H
BEGIN:VTIMEZONE
TZID:Europe/Zurich
BEGIN:DAYLIGHT
TZOFFSETFROM:+0100
TZOFFSETTO:+0200
TZNAME:CEST
DTSTART:20210328T010000
END:DAYLIGHT
BEGIN:STANDARD
TZOFFSETFROM:+0200
TZOFFSETTO:+0100
TZNAME:CET
DTSTART:20211031T010000
END:STANDARD
END:VTIMEZONE
BEGIN:VEVENT
DTSTART;VALUE=DATE:20210904
DTEND;VALUE=DATE:20210906
DTSTAMP:20260425T164028
CREATED:20210612T172036Z
LAST-MODIFIED:20210612T172036Z
UID:3398-1630713600-1630886399@solacyre.ch
SUMMARY:1er week-end automne 2021
DESCRIPTION:Gardiens : Sybille Zoppi. Ouvert de 10h30 à 18h. Sur demande préalable et après accord avec nos gardiens bénévoles (info@solacyre.ch ou 079 334 34 07 lorsque le refuge est ouvert)\, il peut être possible d’ouvrir en soirée pour des groupes.
URL:https://solacyre.ch/event/1er-week-end-automne-2021/
END:VEVENT
END:VCALENDAR