BEGIN:VCALENDAR
VERSION:2.0
PRODID:-//Refuge de Solacyre Leysin - ECPv6.0.9//NONSGML v1.0//EN
CALSCALE:GREGORIAN
METHOD:PUBLISH
X-ORIGINAL-URL:https://solacyre.ch
X-WR-CALDESC:évènements pour Refuge de Solacyre Leysin
REFRESH-INTERVAL;VALUE=DURATION:PT1H
X-Robots-Tag:noindex
X-PUBLISHED-TTL:PT1H
BEGIN:VTIMEZONE
TZID:Europe/Zurich
BEGIN:DAYLIGHT
TZOFFSETFROM:+0100
TZOFFSETTO:+0200
TZNAME:CEST
DTSTART:20210328T010000
END:DAYLIGHT
BEGIN:STANDARD
TZOFFSETFROM:+0200
TZOFFSETTO:+0100
TZNAME:CET
DTSTART:20211031T010000
END:STANDARD
END:VTIMEZONE
BEGIN:VEVENT
DTSTART;VALUE=DATE:20210821
DTEND;VALUE=DATE:20210829
DTSTAMP:20260425T164159
CREATED:20210612T171511Z
LAST-MODIFIED:20210612T171511Z
UID:3394-1629504000-1630195199@solacyre.ch
SUMMARY:8ème semaine été 2021
DESCRIPTION:Gardiens : Aline Crausaz. Ouvert de 10h30 à 18h. Sur demande préalable et après accord avec nos gardiens bénévoles (info@solacyre.ch ou 079 334 34 07 lorsque le refuge est ouvert)\, il peut être possible d’ouvrir en soirée pour des groupes.
URL:https://solacyre.ch/event/8me-semaine-t-2021/
LOCATION:Refuge de\, Solacyre\, Leysin\, VD\, 1854\, Suisse
END:VEVENT
BEGIN:VEVENT
DTSTART;VALUE=DATE:20210828
DTEND;VALUE=DATE:20210830
DTSTAMP:20260425T164159
CREATED:20210612T171643Z
LAST-MODIFIED:20210612T171643Z
UID:3396-1630108800-1630281599@solacyre.ch
SUMMARY:Fin 8ème semaine été 2021
DESCRIPTION:Gardiens : Michèle Jaccard Pugin et Eric Pugin. Ouvert de 10h30 à 18h. Sur demande préalable et après accord avec nos gardiens bénévoles (info@solacyre.ch ou 079 334 34 07 lorsque le refuge est ouvert)\, il peut être possible d’ouvrir en soirée pour des groupes.
URL:https://solacyre.ch/event/fin-8me-semaine-t-2021/
LOCATION:Refuge de\, Solacyre\, Leysin\, VD\, 1854\, Suisse
END:VEVENT
END:VCALENDAR