BEGIN:VCALENDAR
VERSION:2.0
PRODID:-//Refuge de Solacyre Leysin - ECPv6.0.9//NONSGML v1.0//EN
CALSCALE:GREGORIAN
METHOD:PUBLISH
X-ORIGINAL-URL:https://solacyre.ch
X-WR-CALDESC:évènements pour Refuge de Solacyre Leysin
REFRESH-INTERVAL;VALUE=DURATION:PT1H
X-Robots-Tag:noindex
X-PUBLISHED-TTL:PT1H
BEGIN:VTIMEZONE
TZID:Europe/Zurich
BEGIN:DAYLIGHT
TZOFFSETFROM:+0100
TZOFFSETTO:+0200
TZNAME:CEST
DTSTART:20210328T010000
END:DAYLIGHT
BEGIN:STANDARD
TZOFFSETFROM:+0200
TZOFFSETTO:+0100
TZNAME:CET
DTSTART:20211031T010000
END:STANDARD
END:VTIMEZONE
BEGIN:VEVENT
DTSTART;VALUE=DATE:20210123
DTEND;VALUE=DATE:20210125
DTSTAMP:20260426T061608
CREATED:20201207T150254Z
LAST-MODIFIED:20201207T150254Z
UID:2802-1611360000-1611532799@solacyre.ch
SUMMARY:3ème week-end saison hiver
DESCRIPTION:Le refuge est ouvert samedi et dimanche de 10h30 à 16h30. Gardiens : Jean-Pierre Luthi et Natsuko Kojima. Ouverture possible en soirée sur accord préalable et dès 10 personnes. Contact : info@solacyre.ch ou 079 334 34 07\, mais attention ce téléphone n’est en service que lorsque le refuge est ouvert.
URL:https://solacyre.ch/event/3eme-week-end-saison-hiver/
LOCATION:Refuge de\, Solacyre\, Leysin\, VD\, 1854\, Suisse
END:VEVENT
END:VCALENDAR